BEGIN:VCALENDAR
VERSION:2.0
PRODID:-//Marian Retreat Centre - ECPv6.2.9//NONSGML v1.0//EN
CALSCALE:GREGORIAN
METHOD:PUBLISH
X-WR-CALNAME:Marian Retreat Centre
X-ORIGINAL-URL:https://marianretreatcentre.org
X-WR-CALDESC:Events for Marian Retreat Centre
REFRESH-INTERVAL;VALUE=DURATION:PT1H
X-Robots-Tag:noindex
X-PUBLISHED-TTL:PT1H
BEGIN:VTIMEZONE
TZID:UTC
BEGIN:STANDARD
TZOFFSETFROM:+0000
TZOFFSETTO:+0000
TZNAME:UTC
DTSTART:20240101T000000
END:STANDARD
TZID:Asia/Kolkata
BEGIN:STANDARD
TZOFFSETFROM:+0530
TZOFFSETTO:+0530
TZNAME:IST
DTSTART:20240101T000000
END:STANDARD
END:VTIMEZONE
BEGIN:VEVENT
DTSTART;TZID=UTC:20241130T000000
DTEND;TZID=UTC:20241205T000000
DTSTAMP:20260420T055619
CREATED:20240731T003144Z
LAST-MODIFIED:20241006T205322Z
UID:29033-1732924800-1733356800@marianretreatcentre.org
SUMMARY:Krupanubhava Residential Retreat
DESCRIPTION:
URL:https://marianretreatcentre.org/event/residential-retreats-10/
CATEGORIES:Retreats,Seminary
END:VEVENT
BEGIN:VEVENT
DTSTART;VALUE=DATE:20241208
DTEND;VALUE=DATE:20241214
DTSTAMP:20260420T055619
CREATED:20240731T124032Z
LAST-MODIFIED:20241106T043348Z
UID:29067-1733616000-1734134399@marianretreatcentre.org
SUMMARY:Krupanubhava Residential Retreat
DESCRIPTION:
URL:https://marianretreatcentre.org/event/krupanubhava-dhyanam-11/
CATEGORIES:Retreats,Seminary
END:VEVENT
BEGIN:VEVENT
DTSTART;VALUE=DATE:20241217
DTEND;VALUE=DATE:20241218
DTSTAMP:20260420T055619
CREATED:20241115T041945Z
LAST-MODIFIED:20241205T184119Z
UID:29525-1734393600-1734479999@marianretreatcentre.org
SUMMARY:Healing Prayer for the Sick by Rev. Fr. Dominic Valanmanal at Marian Retreat Centre\, Anakkara
DESCRIPTION:
URL:https://marianretreatcentre.org/event/healing-prayer-for-the-sick-by-rev-fr-dominic-valanmanal-at-marian-retreat-centre-anakkara/
CATEGORIES:Retreats,Seminary
END:VEVENT
BEGIN:VEVENT
DTSTART;VALUE=DATE:20241225
DTEND;VALUE=DATE:20241229
DTSTAMP:20260420T055619
CREATED:20240915T212810Z
LAST-MODIFIED:20240915T212929Z
UID:29258-1735084800-1735430399@marianretreatcentre.org
SUMMARY:Youth Residential Retreat
DESCRIPTION:
URL:https://marianretreatcentre.org/event/youth-residential-retreat-2/
CATEGORIES:Retreats,Seminary
END:VEVENT
BEGIN:VEVENT
DTSTART;VALUE=DATE:20241228
DTEND;VALUE=DATE:20250103
DTSTAMP:20260420T055619
CREATED:20240731T003424Z
LAST-MODIFIED:20241006T205335Z
UID:29037-1735344000-1735862399@marianretreatcentre.org
SUMMARY:Krupanubhava Residential Retreat
DESCRIPTION:
URL:https://marianretreatcentre.org/event/residential-retreats-12/
CATEGORIES:Retreats,Seminary
END:VEVENT
END:VCALENDAR