BEGIN:VCALENDAR
VERSION:2.0
PRODID:-//Marian Retreat Centre - ECPv6.2.9//NONSGML v1.0//EN
CALSCALE:GREGORIAN
METHOD:PUBLISH
X-ORIGINAL-URL:https://marianretreatcentre.org
X-WR-CALDESC:Events for Marian Retreat Centre
REFRESH-INTERVAL;VALUE=DURATION:PT1H
X-Robots-Tag:noindex
X-PUBLISHED-TTL:PT1H
BEGIN:VTIMEZONE
TZID:UTC
BEGIN:STANDARD
TZOFFSETFROM:+0000
TZOFFSETTO:+0000
TZNAME:UTC
DTSTART:20240101T000000
END:STANDARD
END:VTIMEZONE
BEGIN:VEVENT
DTSTART;VALUE=DATE:20241228
DTEND;VALUE=DATE:20250103
DTSTAMP:20260420T041157
CREATED:20240731T003424Z
LAST-MODIFIED:20241006T205335Z
UID:29037-1735344000-1735862399@marianretreatcentre.org
SUMMARY:Krupanubhava Residential Retreat
DESCRIPTION:
URL:https://marianretreatcentre.org/event/residential-retreats-12/
CATEGORIES:Retreats,Seminary
END:VEVENT
BEGIN:VEVENT
DTSTART;VALUE=DATE:20250104
DTEND;VALUE=DATE:20250110
DTSTAMP:20260420T041157
CREATED:20240915T213334Z
LAST-MODIFIED:20241006T205342Z
UID:29261-1735948800-1736467199@marianretreatcentre.org
SUMMARY:Krupanubhava Residential Retreat
DESCRIPTION:
URL:https://marianretreatcentre.org/event/krupanubhava-dhyanam-16/
CATEGORIES:Retreats,Seminary
END:VEVENT
BEGIN:VEVENT
DTSTART;VALUE=DATE:20250118
DTEND;VALUE=DATE:20250124
DTSTAMP:20260420T041157
CREATED:20240915T213536Z
LAST-MODIFIED:20241203T055745Z
UID:29260-1737158400-1737676799@marianretreatcentre.org
SUMMARY:Krupanubhava Residential Retreat
DESCRIPTION:
URL:https://marianretreatcentre.org/event/krupanubhava-dhyanam-17/
CATEGORIES:Retreats,Seminary
END:VEVENT
END:VCALENDAR