BEGIN:VCALENDAR
VERSION:2.0
PRODID:-//Marian Retreat Centre - ECPv6.2.9//NONSGML v1.0//EN
CALSCALE:GREGORIAN
METHOD:PUBLISH
X-ORIGINAL-URL:https://marianretreatcentre.org
X-WR-CALDESC:Events for Marian Retreat Centre
REFRESH-INTERVAL;VALUE=DURATION:PT1H
X-Robots-Tag:noindex
X-PUBLISHED-TTL:PT1H
BEGIN:VTIMEZONE
TZID:Asia/Kolkata
BEGIN:STANDARD
TZOFFSETFROM:+0530
TZOFFSETTO:+0530
TZNAME:IST
DTSTART:20250101T000000
END:STANDARD
END:VTIMEZONE
BEGIN:VEVENT
DTSTART;VALUE=DATE:20250503
DTEND;VALUE=DATE:20250509
DTSTAMP:20260419T201545
CREATED:20250323T070013Z
LAST-MODIFIED:20250323T070013Z
UID:29891-1746230400-1746748799@marianretreatcentre.org
SUMMARY:Krupanubhava Residential Retreat
DESCRIPTION:
URL:https://marianretreatcentre.org/event/krupanubhava-residential-retreat-4/
CATEGORIES:Retreats,Seminary
END:VEVENT
BEGIN:VEVENT
DTSTART;VALUE=DATE:20250510
DTEND;VALUE=DATE:20250516
DTSTAMP:20260419T201545
CREATED:20250323T070210Z
LAST-MODIFIED:20250323T070210Z
UID:29893-1746835200-1747353599@marianretreatcentre.org
SUMMARY:Krupanubhava Residential Retreat
DESCRIPTION:
URL:https://marianretreatcentre.org/event/krupanubhava-residential-retreat-8/
CATEGORIES:Retreats,Seminary
END:VEVENT
BEGIN:VEVENT
DTSTART;VALUE=DATE:20250525
DTEND;VALUE=DATE:20250530
DTSTAMP:20260419T201545
CREATED:20250517T025438Z
LAST-MODIFIED:20250518T162402Z
UID:30104-1748131200-1748563199@marianretreatcentre.org
SUMMARY:Krupanubhava Residential Retreat of Youth
DESCRIPTION:
URL:https://marianretreatcentre.org/event/krupanubhava-residential-retreat-of-youth/
CATEGORIES:Retreats,Seminary
END:VEVENT
BEGIN:VEVENT
DTSTART;VALUE=DATE:20250531
DTEND;VALUE=DATE:20250606
DTSTAMP:20260419T201545
CREATED:20250404T170913Z
LAST-MODIFIED:20250404T170913Z
UID:29932-1748649600-1749167999@marianretreatcentre.org
SUMMARY:Krupanubhava Residential Retreat
DESCRIPTION:
URL:https://marianretreatcentre.org/event/krupanubhava-residential-retreat-9/
CATEGORIES:Retreats,Seminary
END:VEVENT
END:VCALENDAR