BEGIN:VCALENDAR
VERSION:2.0
PRODID:-//Marian Retreat Centre - ECPv6.2.9//NONSGML v1.0//EN
CALSCALE:GREGORIAN
METHOD:PUBLISH
X-ORIGINAL-URL:https://marianretreatcentre.org
X-WR-CALDESC:Events for Marian Retreat Centre
REFRESH-INTERVAL;VALUE=DURATION:PT1H
X-Robots-Tag:noindex
X-PUBLISHED-TTL:PT1H
BEGIN:VTIMEZONE
TZID:UTC
BEGIN:STANDARD
TZOFFSETFROM:+0000
TZOFFSETTO:+0000
TZNAME:UTC
DTSTART:20240101T000000
END:STANDARD
END:VTIMEZONE
BEGIN:VEVENT
DTSTART;VALUE=DATE:20240622
DTEND;VALUE=DATE:20240628
DTSTAMP:20260420T185209
CREATED:20240319T053726Z
LAST-MODIFIED:20240320T053056Z
UID:27053-1719014400-1719532799@marianretreatcentre.org
SUMMARY:Krupanubhava Dhyanam
DESCRIPTION:
URL:https://marianretreatcentre.org/event/krupanubhava-dhyanam-7/
CATEGORIES:Retreats,Seminary
END:VEVENT
END:VCALENDAR