BEGIN:VCALENDAR
VERSION:2.0
PRODID:-//Marian Retreat Centre - ECPv6.2.9//NONSGML v1.0//EN
CALSCALE:GREGORIAN
METHOD:PUBLISH
X-WR-CALNAME:Marian Retreat Centre
X-ORIGINAL-URL:https://marianretreatcentre.org
X-WR-CALDESC:Events for Marian Retreat Centre
REFRESH-INTERVAL;VALUE=DURATION:PT1H
X-Robots-Tag:noindex
X-PUBLISHED-TTL:PT1H
BEGIN:VTIMEZONE
TZID:UTC
BEGIN:STANDARD
TZOFFSETFROM:+0000
TZOFFSETTO:+0000
TZNAME:UTC
DTSTART:20240101T000000
END:STANDARD
END:VTIMEZONE
BEGIN:VEVENT
DTSTART;VALUE=DATE:20240908
DTEND;VALUE=DATE:20240914
DTSTAMP:20260420T132823
CREATED:20240319T054508Z
LAST-MODIFIED:20240731T121745Z
UID:27069-1725753600-1726271999@marianretreatcentre.org
SUMMARY:Krupanubhava Dhyanam
DESCRIPTION:
URL:https://marianretreatcentre.org/event/krupanubhava-dhyanam-12/
CATEGORIES:Retreats,Seminary
END:VEVENT
END:VCALENDAR